BEGIN:VCALENDAR
VERSION:2.0
PRODID:-//JASNA Greater Sacramento Region - ECPv6.15.17.1//NONSGML v1.0//EN
CALSCALE:GREGORIAN
METHOD:PUBLISH
X-WR-CALNAME:JASNA Greater Sacramento Region
X-ORIGINAL-URL:https://jasnasac.org
X-WR-CALDESC:Events for JASNA Greater Sacramento Region
REFRESH-INTERVAL;VALUE=DURATION:PT1H
X-Robots-Tag:noindex
X-PUBLISHED-TTL:PT1H
BEGIN:VTIMEZONE
TZID:America/Los_Angeles
BEGIN:DAYLIGHT
TZOFFSETFROM:-0800
TZOFFSETTO:-0700
TZNAME:PDT
DTSTART:20240310T100000
END:DAYLIGHT
BEGIN:STANDARD
TZOFFSETFROM:-0700
TZOFFSETTO:-0800
TZNAME:PST
DTSTART:20241103T090000
END:STANDARD
BEGIN:DAYLIGHT
TZOFFSETFROM:-0800
TZOFFSETTO:-0700
TZNAME:PDT
DTSTART:20250309T100000
END:DAYLIGHT
BEGIN:STANDARD
TZOFFSETFROM:-0700
TZOFFSETTO:-0800
TZNAME:PST
DTSTART:20251102T090000
END:STANDARD
BEGIN:DAYLIGHT
TZOFFSETFROM:-0800
TZOFFSETTO:-0700
TZNAME:PDT
DTSTART:20260308T100000
END:DAYLIGHT
BEGIN:STANDARD
TZOFFSETFROM:-0700
TZOFFSETTO:-0800
TZNAME:PST
DTSTART:20261101T090000
END:STANDARD
BEGIN:DAYLIGHT
TZOFFSETFROM:-0800
TZOFFSETTO:-0700
TZNAME:PDT
DTSTART:20270314T100000
END:DAYLIGHT
BEGIN:STANDARD
TZOFFSETFROM:-0700
TZOFFSETTO:-0800
TZNAME:PST
DTSTART:20271107T090000
END:STANDARD
END:VTIMEZONE
BEGIN:VEVENT
DTSTART;TZID=America/Los_Angeles:20260719T130000
DTEND;TZID=America/Los_Angeles:20260719T170000
DTSTAMP:20260422T062243
CREATED:20260419T032343Z
LAST-MODIFIED:20260419T032343Z
UID:3878-1784466000-1784480400@jasnasac.org
SUMMARY:JA Movie Fan Club
DESCRIPTION:Crouching Tiger\, Hidden Dragon \nIn-Person Event \n1:00 pm
URL:https://jasnasac.org/event/ja-movie-fan-club-9/
LOCATION:Home of Joy Prevost\, CA\, United States
CATEGORIES:Movie Fan Club
ORGANIZER;CN="Joy Prevost":MAILTO:jasna.grsac@gmail.com
END:VEVENT
BEGIN:VEVENT
DTSTART;TZID=America/Los_Angeles:20260715T180000
DTEND;TZID=America/Los_Angeles:20260715T210000
DTSTAMP:20260422T062243
CREATED:20260419T032140Z
LAST-MODIFIED:20260419T032140Z
UID:3876-1784138400-1784149200@jasnasac.org
SUMMARY:JA Movie Fan Club
DESCRIPTION:The Many Lovers of Jane Austen
URL:https://jasnasac.org/event/ja-movie-fan-club-8/
LOCATION:Zoom Meeting\, CA\, United States
CATEGORIES:Movie Fan Club
ORGANIZER;CN="Joy Prevost":MAILTO:jasna.grsac@gmail.com
END:VEVENT
BEGIN:VEVENT
DTSTART;TZID=America/Los_Angeles:20260711T150000
DTEND;TZID=America/Los_Angeles:20260711T170000
DTSTAMP:20260422T062243
CREATED:20260214T224146Z
LAST-MODIFIED:20260419T034928Z
UID:3800-1783782000-1783789200@jasnasac.org
SUMMARY:Austentacious Study Group- The Novel Life of Jane Austen: A Graphic Biography
DESCRIPTION:The Austentacious Study Group will meet on July 11th  at 3pm on Zoom to discuss The Novel Life of Jane Austen: A Graphic Biography by Janine Barchas. A Zoom invitation and discussion questions will be sent out to registered members shortly before the event. Please contact Austentacious Study Group organizer\, Susan Byars\, if you wish to attend.
URL:https://jasnasac.org/event/austentacious-study-group-the-novel-life-of-jane-austen-a-graphic-biography/
LOCATION:Zoom Meeting\, CA\, United States
ORGANIZER;CN="Susan Byars":MAILTO:jasna.grsac@gmail.com
END:VEVENT
BEGIN:VEVENT
DTSTART;TZID=America/Los_Angeles:20260628T140000
DTEND;TZID=America/Los_Angeles:20260628T160000
DTSTAMP:20260422T062243
CREATED:20260419T034147Z
LAST-MODIFIED:20260419T034147Z
UID:3902-1782655200-1782662400@jasnasac.org
SUMMARY:JA Book-to-Fork Cooking Club
DESCRIPTION:Inspired Ices \nMake or buy ice cream and share on screen. Make an ice cream recipe from the Georgian/Regency Period. Create an Austen-inspired flavor.
URL:https://jasnasac.org/event/ja-book-to-fork-cooking-club-8/
LOCATION:Zoom Meeting\, CA\, United States
CATEGORIES:Book-to-Fork Cooking Club
ORGANIZER;CN="Joy Prevost":MAILTO:jasna.grsac@gmail.com
END:VEVENT
BEGIN:VEVENT
DTSTART;TZID=America/Los_Angeles:20260619T130000
DTEND;TZID=America/Los_Angeles:20260619T170000
DTSTAMP:20260422T062243
CREATED:20260419T033827Z
LAST-MODIFIED:20260419T033828Z
UID:3899-1781874000-1781888400@jasnasac.org
SUMMARY:Afternoon Tea with Jane Austen - Rise of a Genius
DESCRIPTION:Afternoon Tea to-go box from Estelle Patisserie \n(approx $30 ++) \nWatch Jane Austen – Rise of a Genius
URL:https://jasnasac.org/event/afternoon-tea-with-jane-austen-rise-of-a-genius/
LOCATION:Home of Joy Prevost\, CA\, United States
CATEGORIES:Book-to-Fork Cooking Club,Movie Fan Club
ORGANIZER;CN="Joy Prevost":MAILTO:jasna.grsac@gmail.com
END:VEVENT
BEGIN:VEVENT
DTSTART;TZID=America/Los_Angeles:20260617T180000
DTEND;TZID=America/Los_Angeles:20260617T210000
DTSTAMP:20260422T062243
CREATED:20260419T032018Z
LAST-MODIFIED:20260419T032019Z
UID:3874-1781719200-1781730000@jasnasac.org
SUMMARY:JA Movie Fan Club
DESCRIPTION:Byron
URL:https://jasnasac.org/event/ja-movie-fan-club-7/
LOCATION:Zoom Meeting\, CA\, United States
CATEGORIES:Movie Fan Club
ORGANIZER;CN="Joy Prevost":MAILTO:jasna.grsac@gmail.com
END:VEVENT
BEGIN:VEVENT
DTSTART;TZID=America/Los_Angeles:20260613T150000
DTEND;TZID=America/Los_Angeles:20260613T170000
DTSTAMP:20260422T062243
CREATED:20260214T223833Z
LAST-MODIFIED:20260214T223833Z
UID:3797-1781362800-1781370000@jasnasac.org
SUMMARY:JASNA Reading Group- Jane Austen & Lord Byron: Regency Relations
DESCRIPTION:The JASNA Reading Group will meet on June 13th  at 3pm on Zoom to discuss Jane Austen & Lord Byron: Regency Relations by Christine Kenyon Jones.  A Zoom invitation and discussion questions will be sent out to registered members shortly before the event. Please contact reading group organizer\, Nancy Kleinert\, if you wish to attend.
URL:https://jasnasac.org/event/jasna-reading-group-jane-austen-lord-byron-regency-relations/
LOCATION:Zoom Meeting\, CA\, United States
ORGANIZER;CN="Nancy Kleinert":MAILTO:jasna.grsac@gmail.com
END:VEVENT
BEGIN:VEVENT
DTSTART;TZID=America/Los_Angeles:20260520T180000
DTEND;TZID=America/Los_Angeles:20260520T210000
DTSTAMP:20260422T062243
CREATED:20260419T031908Z
LAST-MODIFIED:20260419T031908Z
UID:3872-1779300000-1779310800@jasnasac.org
SUMMARY:JA Movie Fan Club
DESCRIPTION:The Guernsey Literary and Potato Peel Pie Society
URL:https://jasnasac.org/event/ja-movie-fan-club-6/
LOCATION:Zoom Meeting\, CA\, United States
CATEGORIES:Movie Fan Club
ORGANIZER;CN="Joy Prevost":MAILTO:jasna.grsac@gmail.com
END:VEVENT
BEGIN:VEVENT
DTSTART;TZID=America/Los_Angeles:20260517T130000
DTEND;TZID=America/Los_Angeles:20260517T170000
DTSTAMP:20260422T062243
CREATED:20260419T033439Z
LAST-MODIFIED:20260419T033439Z
UID:3896-1779022800-1779037200@jasnasac.org
SUMMARY:Macaroni and Mary Bennet
DESCRIPTION:Learn about macaroni during the Georgian/Regency period. \nMacaroni potluck. \nWatch some episodes of The Other Miss Bennet. \n1:00 pm \nIn-Person
URL:https://jasnasac.org/event/macaroni-and-mary-bennet/
LOCATION:Home of Joy Prevost\, CA\, United States
CATEGORIES:Book-to-Fork Cooking Club,Movie Fan Club
ORGANIZER;CN="Joy Prevost":MAILTO:jasna.grsac@gmail.com
END:VEVENT
BEGIN:VEVENT
DTSTART;TZID=America/Los_Angeles:20260509T150000
DTEND;TZID=America/Los_Angeles:20260509T170000
DTSTAMP:20260422T062243
CREATED:20260214T223454Z
LAST-MODIFIED:20260214T223454Z
UID:3794-1778338800-1778346000@jasnasac.org
SUMMARY:Austentacious Study Group- The Austens: A Novel
DESCRIPTION:The Austentacious Study Group will meet on May 9th  at 3pm on Zoom to discuss The Austens: A Novel by Sarah Emsley . A Zoom invitation and discussion questions will be sent out to registered members shortly before the event. Please contact Austentacious Study Group organizer\, Susan Byars\, if you wish to attend.
URL:https://jasnasac.org/event/austentacious-study-group-the-austens-a-novel/
LOCATION:Zoom Meeting\, CA\, United States
ORGANIZER;CN="Susan Byars":MAILTO:jasna.grsac@gmail.com
END:VEVENT
BEGIN:VEVENT
DTSTART;TZID=America/Los_Angeles:20260423T180000
DTEND;TZID=America/Los_Angeles:20260423T210000
DTSTAMP:20260422T062243
CREATED:20260419T031733Z
LAST-MODIFIED:20260419T031733Z
UID:3869-1776967200-1776978000@jasnasac.org
SUMMARY:JA Movie Fan Club
DESCRIPTION:JASNA Young Filmmakers Contest Winners \n2024 and 2025
URL:https://jasnasac.org/event/ja-movie-fan-club-5/
LOCATION:Zoom Meeting\, CA\, United States
CATEGORIES:Movie Fan Club
ORGANIZER;CN="Joy Prevost":MAILTO:jasna.grsac@gmail.com
END:VEVENT
BEGIN:VEVENT
DTSTART;TZID=America/Los_Angeles:20260422T180000
DTEND;TZID=America/Los_Angeles:20260422T210000
DTSTAMP:20260422T062243
CREATED:20260419T031456Z
LAST-MODIFIED:20260419T031456Z
UID:3867-1776880800-1776891600@jasnasac.org
SUMMARY:JA Movie Fan Club
DESCRIPTION:Jane Austen Wrecked My Life
URL:https://jasnasac.org/event/ja-movie-fan-club-4/
LOCATION:Zoom Meeting\, CA\, United States
CATEGORIES:Movie Fan Club
ORGANIZER;CN="Joy Prevost":MAILTO:jasna.grsac@gmail.com
END:VEVENT
BEGIN:VEVENT
DTSTART;TZID=America/Los_Angeles:20260411T150000
DTEND;TZID=America/Los_Angeles:20260411T170000
DTSTAMP:20260422T062243
CREATED:20260214T222914Z
LAST-MODIFIED:20260214T222914Z
UID:3791-1775919600-1775926800@jasnasac.org
SUMMARY:JASNA Reading Group- Wild for Austen
DESCRIPTION:The JASNA Reading Group will meet on April 11th  at 3pm on Zoom to discuss Wild for Austen by Devoney Looser .  A Zoom invitation and discussion questions will be sent out to registered members shortly before the event. Please contact reading group organizer\, Nancy Kleinert\, if you wish to attend.
URL:https://jasnasac.org/event/jasna-reading-group-wild-for-austen/
LOCATION:Zoom Meeting\, CA\, United States
ORGANIZER;CN="Nancy Kleinert":MAILTO:jasna.grsac@gmail.com
END:VEVENT
BEGIN:VEVENT
DTSTART;TZID=America/Los_Angeles:20260329T140000
DTEND;TZID=America/Los_Angeles:20260329T150000
DTSTAMP:20260422T062243
CREATED:20260301T214323Z
LAST-MODIFIED:20260301T214323Z
UID:3829-1774792800-1774796400@jasnasac.org
SUMMARY:Picturing Wit and Wisdom: Can AI Imaging Capture Jane Austen’s Genius?
DESCRIPTION:  \nJASNA Greater Sacramento Member Joy Prevost will expand on the presentation she gave for the Pecha Kucha session at the 2025 AGM. \nJane Austen’s genius was one-of-a-kind and her writings are incomparable. Her books are constantly reprinted and many editions are illustrated. AI can “read” and utilize the text of novels\, but can it engage and feel them or understand the nuances\, emotions\, satire\, and humor as we readers and artists do? This presentation will compare and juxtapose how illustrators of Austen novels and creators of Austen art understand her characters\, plots\, and language versus AI-generated versions. New interpretations will range from realistic to fantasy style\, watercolor to photography style\, comic to serious\, to name a few of the potential outcomes of AI-generated artwork. \nZoom information will be sent to members prior to the event. This program will not be recorded.
URL:https://jasnasac.org/event/picturing-wit-and-wisdom-can-ai-imaging-capture-jane-austens-genius/
LOCATION:CA
END:VEVENT
BEGIN:VEVENT
DTSTART;TZID=America/Los_Angeles:20260314T150000
DTEND;TZID=America/Los_Angeles:20260314T170000
DTSTAMP:20260422T062243
CREATED:20260214T222539Z
LAST-MODIFIED:20260214T222539Z
UID:3788-1773500400-1773507600@jasnasac.org
SUMMARY:Austentacious Study Group-Jane Austen’s Bookshelf
DESCRIPTION:The Austentacious Study Group will meet on March 14 at 3pm on Zoom to discuss :  Jane Austen’s Bookshelf by Rebecca Romney . A Zoom invitation and discussion questions will be sent out to registered members shortly before the event. Please contact reading group organizer\, Susan Byars\, if you wish to attend.
URL:https://jasnasac.org/event/austentacious-study-group-jane-austens-bookshelf/
LOCATION:Zoom Meeting\, CA\, United States
ORGANIZER;CN="Susan Byars":MAILTO:jasna.grsac@gmail.com
END:VEVENT
BEGIN:VEVENT
DTSTART;TZID=America/Los_Angeles:20260214T150000
DTEND;TZID=America/Los_Angeles:20260214T170000
DTSTAMP:20260422T062243
CREATED:20260214T221557Z
LAST-MODIFIED:20260214T221557Z
UID:3785-1771081200-1771088400@jasnasac.org
SUMMARY:JASNA Reading Group- Mr. Collins in Love
DESCRIPTION:The JASNA Reading Group will meet on February 14\,  at 3pm on Zoom to discuss Mr. Collins in Love by Lee Welch.  A Zoom invitation and discussion questions will be sent out to registered members shortly before the event. Please contact reading group organizer\, Nancy Kleinert\, if you wish to attend.
URL:https://jasnasac.org/event/jasna-reading-group-mr-collins-in-love/
LOCATION:Zoom Meeting\, CA\, United States
ORGANIZER;CN="Nancy Kleinert":MAILTO:jasna.grsac@gmail.com
END:VEVENT
BEGIN:VEVENT
DTSTART;TZID=America/Los_Angeles:20260111T133000
DTEND;TZID=America/Los_Angeles:20260111T163000
DTSTAMP:20260422T062243
CREATED:20250624T033752Z
LAST-MODIFIED:20250624T034134Z
UID:3454-1768138200-1768149000@jasnasac.org
SUMMARY:Jane Austen 250th Birthday Celebration
DESCRIPTION:Happy 250th Birthday Jane Austen! \nTicket Sales Dates: \nOpen to members starting on July 1\, 2025 \nOpen to general public starting on September 1\, 2025
URL:https://jasnasac.org/event/save-the-date-jane-austen-birthday-celebration/
LOCATION:1300 H Street\, Sacramento\, CA 95814\, 1300 H Street\, Sacramento\, CA\, 95814\, United States
END:VEVENT
BEGIN:VEVENT
DTSTART;TZID=America/Los_Angeles:20251213T150000
DTEND;TZID=America/Los_Angeles:20251213T170000
DTSTAMP:20260422T062243
CREATED:20250224T042445Z
LAST-MODIFIED:20250224T042445Z
UID:3293-1765638000-1765645200@jasnasac.org
SUMMARY:Austentacious Study Group - A Jane Austen Education - William Deresiewicz
DESCRIPTION:Austentacious Study Group – A Jane Austen Education – William Deresiewicz \nAll members of JASNA Greater Sacramento will receive a Zoom link and discussion questions prior to the meeting. If you are not a member\, but wish to attend please contact Nancy Kleinert at jasna.grsac@gmail.com and a zoom link will be sent to you.
URL:https://jasnasac.org/event/austentacious-study-group-a-jane-austen-education-william-deresiewicz/
LOCATION:Zoom Meeting\, CA\, United States
ORGANIZER;CN="Nancy Kleinert":MAILTO:jasna.grsac@gmail.com
END:VEVENT
BEGIN:VEVENT
DTSTART;TZID=America/Los_Angeles:20251203T180000
DTEND;TZID=America/Los_Angeles:20251203T180000
DTSTAMP:20260422T062243
CREATED:20250108T040510Z
LAST-MODIFIED:20250108T040511Z
UID:3158-1764784800-1764784800@jasnasac.org
SUMMARY:Movie Fan Club - Sense and Sensibility and Snowmen
DESCRIPTION:Sense and Sensibility and Snowmen (2019)
URL:https://jasnasac.org/event/movie-fan-club-sense-and-sensibility-and-snowmen/
LOCATION:Zoom Meeting\, CA\, United States
CATEGORIES:Movie Fan Club
ORGANIZER;CN="Joy Prevost":MAILTO:jasna.grsac@gmail.com
END:VEVENT
BEGIN:VEVENT
DTSTART;TZID=America/Los_Angeles:20251119T180000
DTEND;TZID=America/Los_Angeles:20251119T210000
DTSTAMP:20260422T062243
CREATED:20250108T040342Z
LAST-MODIFIED:20250108T040342Z
UID:3156-1763575200-1763586000@jasnasac.org
SUMMARY:Movie Fan Club - Persuasion
DESCRIPTION:Persuasion (1995)
URL:https://jasnasac.org/event/movie-fan-club-persuasion/
LOCATION:Zoom Meeting\, CA\, United States
CATEGORIES:Movie Fan Club
ORGANIZER;CN="Joy Prevost":MAILTO:jasna.grsac@gmail.com
END:VEVENT
BEGIN:VEVENT
DTSTART;TZID=America/Los_Angeles:20251109T120000
DTEND;TZID=America/Los_Angeles:20251109T150000
DTSTAMP:20260422T062243
CREATED:20250108T043622Z
LAST-MODIFIED:20250108T045253Z
UID:3172-1762689600-1762700400@jasnasac.org
SUMMARY:Book-to-Fork Cooking Club
DESCRIPTION:Regency Cocoa and Tea Wreath Craft
URL:https://jasnasac.org/event/book-to-fork-cooking-club-6/
LOCATION:CA
CATEGORIES:Book-to-Fork Cooking Club
ORGANIZER;CN="Joy Prevost":MAILTO:jasna.grsac@gmail.com
END:VEVENT
BEGIN:VEVENT
DTSTART;TZID=America/Los_Angeles:20251108T150000
DTEND;TZID=America/Los_Angeles:20251108T170000
DTSTAMP:20260422T062243
CREATED:20250224T042301Z
LAST-MODIFIED:20250224T042301Z
UID:3290-1762614000-1762621200@jasnasac.org
SUMMARY:Austentacious Study Group - Persuasion
DESCRIPTION:Austentacious Study Group – Persuasion \nAll members of JASNA Greater Sacramento will receive a Zoom link and discussion questions prior to the meeting. If you are not a member\, but wish to attend please contact Nancy Kleinert at jasna.grsac@gmail.com and a zoom link will be sent to you.
URL:https://jasnasac.org/event/austentacious-study-group-persuasion/
LOCATION:Zoom Meeting\, CA\, United States
ORGANIZER;CN="Nancy Kleinert":MAILTO:jasna.grsac@gmail.com
END:VEVENT
BEGIN:VEVENT
DTSTART;TZID=America/Los_Angeles:20251102T140000
DTEND;TZID=America/Los_Angeles:20251102T153000
DTSTAMP:20260422T062243
CREATED:20251028T231018Z
LAST-MODIFIED:20251028T231018Z
UID:3658-1762092000-1762097400@jasnasac.org
SUMMARY:Regency Medicine with Dr. Kathleen Whitley
DESCRIPTION:This presentation will discuss common illnesses of the time\, some contemporary medical treatments\, and home remedies available in the Austen household. We will also examine how new medical discoveries improved the health of Jane Austen’s family\, friends\, and Great Britain in general. \nKathleen Whitley is a retired psychiatrist with an interest in the history of medicine and public health. She is a member of the Denver/Boulder Region of JASNA. \nZoom information will be emailed to members shortly before this event.
URL:https://jasnasac.org/event/regency-medicine-with-dr-kathleen-whitley/
LOCATION:CA
END:VEVENT
BEGIN:VEVENT
DTSTART;TZID=America/Los_Angeles:20251025T123000
DTEND;TZID=America/Los_Angeles:20251025T153000
DTSTAMP:20260422T062243
CREATED:20250108T040209Z
LAST-MODIFIED:20250108T054959Z
UID:3153-1761395400-1761406200@jasnasac.org
SUMMARY:Movie Fan Club - Pride and Prejudice and Zombies
DESCRIPTION:In-Person Meeting to watch Pride and Prejudice and Zombies (2016) and play the game\, Zombie Dice. \n 
URL:https://jasnasac.org/event/movie-fan-club-pride-and-prejudice-and-zombies-2/
LOCATION:Home of Joy Prevost\, CA\, United States
CATEGORIES:Movie Fan Club
ORGANIZER;CN="Joy Prevost":MAILTO:jasna.grsac@gmail.com
END:VEVENT
BEGIN:VEVENT
DTSTART;TZID=America/Los_Angeles:20251022T180000
DTEND;TZID=America/Los_Angeles:20251022T210000
DTSTAMP:20260422T062243
CREATED:20250108T035857Z
LAST-MODIFIED:20250108T035857Z
UID:3151-1761156000-1761166800@jasnasac.org
SUMMARY:Movie Fan Club - Princess Caraboo
DESCRIPTION:Princess Caraboo (1994)
URL:https://jasnasac.org/event/movie-fan-club-princess-caraboo/
LOCATION:Zoom Meeting\, CA\, United States
CATEGORIES:Movie Fan Club
ORGANIZER;CN="Joy Prevost":MAILTO:jasna.grsac@gmail.com
END:VEVENT
BEGIN:VEVENT
DTSTART;TZID=America/Los_Angeles:20251011T150000
DTEND;TZID=America/Los_Angeles:20251011T170000
DTSTAMP:20260422T062243
CREATED:20250224T042137Z
LAST-MODIFIED:20250224T042137Z
UID:3287-1760194800-1760202000@jasnasac.org
SUMMARY:Austentacious Study Group - Gothic Novels - Reader's Choice
DESCRIPTION:Austentacious Study Group – Gothic Novels – Reader’s Choice \nAll members of JASNA Greater Sacramento will receive a Zoom link and discussion questions prior to the meeting. If you are not a member\, but wish to attend please contact Nancy Kleinert at jasna.grsac@gmail.com and a zoom link will be sent to you.
URL:https://jasnasac.org/event/austentacious-study-group-gothic-novels-readers-choice/
LOCATION:Zoom Meeting\, CA\, United States
ORGANIZER;CN="Nancy Kleinert":MAILTO:jasna.grsac@gmail.com
END:VEVENT
BEGIN:VEVENT
DTSTART;TZID=America/Los_Angeles:20251005T140000
DTEND;TZID=America/Los_Angeles:20251005T150000
DTSTAMP:20260422T062243
CREATED:20251005T031533Z
LAST-MODIFIED:20251005T031533Z
UID:3630-1759672800-1759676400@jasnasac.org
SUMMARY:Northanger Abbey Presentation
DESCRIPTION:We are reading each of Jane Austen’s completed novels throughout 2025 to celebrate her big birthday. We are in the midst of exploring Northanger Abbey.\n\nOn Sunday\, October 5 at 2 p.m. we will watch a short presentation on Austen’s Gothic parody by one of our favorite contemporary Austen experts.\n\nZoom information will be sent to members.
URL:https://jasnasac.org/event/northanger-abbey-presentation/
LOCATION:CA
END:VEVENT
BEGIN:VEVENT
DTSTART;TZID=America/Los_Angeles:20250928T130000
DTEND;TZID=America/Los_Angeles:20250928T153000
DTSTAMP:20260422T062243
CREATED:20250108T043439Z
LAST-MODIFIED:20250108T043440Z
UID:3170-1759064400-1759073400@jasnasac.org
SUMMARY:Book-to-Fork Cooking Club
DESCRIPTION:Welcome to Molland’s \nCookie Exchange
URL:https://jasnasac.org/event/book-to-fork-cooking-club-5/
LOCATION:CA
CATEGORIES:Book-to-Fork Cooking Club
ORGANIZER;CN="Joy Prevost":MAILTO:jasna.grsac@gmail.com
END:VEVENT
BEGIN:VEVENT
DTSTART;TZID=America/Los_Angeles:20250927T150000
DTEND;TZID=America/Los_Angeles:20250927T170000
DTSTAMP:20260422T062243
CREATED:20250923T041157Z
LAST-MODIFIED:20250923T041157Z
UID:3602-1758985200-1758992400@jasnasac.org
SUMMARY:Neckerchief Stamping
DESCRIPTION:In the 18th and 19th centuries\, large squares of fabric were used as shawls\, cravats\, turbans\, and handkerchiefs. They could be solid or decorated with needlework or printing. \nIn this craft project we will decorate large kerchiefs with Indian-inspired stamps. All supplies will be provided. \nThis will take place in central Sacramento in an accessible public location. Please RSVP for location and details stephborelli@aol.com
URL:https://jasnasac.org/event/neckerchief-stamping/
LOCATION:CA
END:VEVENT
BEGIN:VEVENT
DTSTART;TZID=America/Los_Angeles:20250917T180000
DTEND;TZID=America/Los_Angeles:20250917T210000
DTSTAMP:20260422T062243
CREATED:20250108T035727Z
LAST-MODIFIED:20250108T035740Z
UID:3149-1758132000-1758142800@jasnasac.org
SUMMARY:Movie Fan Club - Northanger Abbey
DESCRIPTION:Northanger Abbey (2007)
URL:https://jasnasac.org/event/movie-fan-club-northanger-abbey/
LOCATION:Zoom Meeting\, CA\, United States
CATEGORIES:Movie Fan Club
ORGANIZER;CN="Joy Prevost":MAILTO:jasna.grsac@gmail.com
END:VEVENT
END:VCALENDAR