BEGIN:VCALENDAR
VERSION:2.0
PRODID:-//JASNA Greater Sacramento Region - ECPv6.15.17.1//NONSGML v1.0//EN
CALSCALE:GREGORIAN
METHOD:PUBLISH
X-ORIGINAL-URL:https://jasnasac.org
X-WR-CALDESC:Events for JASNA Greater Sacramento Region
REFRESH-INTERVAL;VALUE=DURATION:PT1H
X-Robots-Tag:noindex
X-PUBLISHED-TTL:PT1H
BEGIN:VTIMEZONE
TZID:America/Los_Angeles
BEGIN:DAYLIGHT
TZOFFSETFROM:-0800
TZOFFSETTO:-0700
TZNAME:PDT
DTSTART:20250309T100000
END:DAYLIGHT
BEGIN:STANDARD
TZOFFSETFROM:-0700
TZOFFSETTO:-0800
TZNAME:PST
DTSTART:20251102T090000
END:STANDARD
BEGIN:DAYLIGHT
TZOFFSETFROM:-0800
TZOFFSETTO:-0700
TZNAME:PDT
DTSTART:20260308T100000
END:DAYLIGHT
BEGIN:STANDARD
TZOFFSETFROM:-0700
TZOFFSETTO:-0800
TZNAME:PST
DTSTART:20261101T090000
END:STANDARD
BEGIN:DAYLIGHT
TZOFFSETFROM:-0800
TZOFFSETTO:-0700
TZNAME:PDT
DTSTART:20270314T100000
END:DAYLIGHT
BEGIN:STANDARD
TZOFFSETFROM:-0700
TZOFFSETTO:-0800
TZNAME:PST
DTSTART:20271107T090000
END:STANDARD
END:VTIMEZONE
BEGIN:VEVENT
DTSTART;TZID=America/Los_Angeles:20260912T150000
DTEND;TZID=America/Los_Angeles:20260912T170000
DTSTAMP:20260420T102016
CREATED:20260214T224809Z
LAST-MODIFIED:20260214T224809Z
UID:3806-1789225200-1789232400@jasnasac.org
SUMMARY:Austentacious Study Group- The Real Persuasion
DESCRIPTION:The Austentacious Study Group will meet on September 12th at 3pm on Zoom to discuss The Real Persuasion: Portrait of a Real Life Jane Austen Heroine by Peter James Bowman . A Zoom invitation and discussion questions will be sent out to registered members shortly before the event. Please contact Austentacious Study Group organizer\, Susan Byars\, if you wish to attend.
URL:https://jasnasac.org/event/austentacious-study-group-the-real-persuasion/
LOCATION:Zoom Meeting\, CA\, United States
ORGANIZER;CN="Susan Byars":MAILTO:jasna.grsac@gmail.com
END:VEVENT
BEGIN:VEVENT
DTSTART;TZID=America/Los_Angeles:20260916T180000
DTEND;TZID=America/Los_Angeles:20260916T210000
DTSTAMP:20260420T102016
CREATED:20260419T032609Z
LAST-MODIFIED:20260419T035004Z
UID:3885-1789581600-1789592400@jasnasac.org
SUMMARY:JA Movie Fan Club
DESCRIPTION:Persuasion (2008)
URL:https://jasnasac.org/event/ja-movie-fan-club-11/
LOCATION:Zoom Meeting\, CA\, United States
CATEGORIES:Movie Fan Club
ORGANIZER;CN="Joy Prevost":MAILTO:jasna.grsac@gmail.com
END:VEVENT
BEGIN:VEVENT
DTSTART;TZID=America/Los_Angeles:20261010T150000
DTEND;TZID=America/Los_Angeles:20261010T170000
DTSTAMP:20260420T102016
CREATED:20260214T225106Z
LAST-MODIFIED:20260214T225106Z
UID:3809-1791644400-1791651600@jasnasac.org
SUMMARY:JASNA Reading Group- Bitches in Bonnets
DESCRIPTION:The JASNA Reading Group will meet on October 10th at 3pm on Zoom to discuss Bitches in Bonnets: Life Lessons from Jane Austen’s Mean Girls by Sarah J. Makowski.  A Zoom invitation and discussion questions will be sent out to registered members shortly before the event. Please contact reading group organizer\, Nancy Kleinert\, if you wish to attend.
URL:https://jasnasac.org/event/jasna-reading-group-bitches-in-bonnets/
LOCATION:Zoom Meeting\, CA\, United States
ORGANIZER;CN="Nancy Kleinert":MAILTO:jasna.grsac@gmail.com
END:VEVENT
BEGIN:VEVENT
DTSTART;TZID=America/Los_Angeles:20261017T130000
DTEND;TZID=America/Los_Angeles:20261017T170000
DTSTAMP:20260420T102016
CREATED:20260419T032806Z
LAST-MODIFIED:20260419T032806Z
UID:3888-1792242000-1792256400@jasnasac.org
SUMMARY:JA Movie Fan Club
DESCRIPTION:Miss Austen \n1:00 pm \nIn-Person
URL:https://jasnasac.org/event/ja-movie-fan-club-12/
LOCATION:Home of Joy Prevost\, CA\, United States
CATEGORIES:Movie Fan Club
ORGANIZER;CN="Joy Prevost":MAILTO:jasna.grsac@gmail.com
END:VEVENT
BEGIN:VEVENT
DTSTART;TZID=America/Los_Angeles:20261022T180000
DTEND;TZID=America/Los_Angeles:20261022T210000
DTSTAMP:20260420T102016
CREATED:20260419T032925Z
LAST-MODIFIED:20260419T032925Z
UID:3890-1792692000-1792702800@jasnasac.org
SUMMARY:JA Movie Fan Club
DESCRIPTION:Austentatious Improv \n 
URL:https://jasnasac.org/event/ja-movie-fan-club-13/
LOCATION:Zoom Meeting\, CA\, United States
CATEGORIES:Movie Fan Club
ORGANIZER;CN="Joy Prevost":MAILTO:jasna.grsac@gmail.com
END:VEVENT
BEGIN:VEVENT
DTSTART;TZID=America/Los_Angeles:20261114T150000
DTEND;TZID=America/Los_Angeles:20261114T170000
DTSTAMP:20260420T102016
CREATED:20260214T225402Z
LAST-MODIFIED:20260214T225402Z
UID:3812-1794668400-1794675600@jasnasac.org
SUMMARY:Austentacious Study Group- Jane Austen’s Wardrobe
DESCRIPTION:The Austentacious Study Group will meet on November 14th at 3pm on Zoom to discuss  Jane Austen’s Wardrobe by Hillary Davidson. A Zoom invitation and discussion questions will be sent out to registered members shortly before the event. Please contact Austentacious Study Group organizer\, Susan Byars\, if you wish to attend.
URL:https://jasnasac.org/event/austentacious-study-group-jane-austens-wardrobe/
LOCATION:Zoom Meeting\, CA\, United States
ORGANIZER;CN="Susan Byars":MAILTO:jasna.grsac@gmail.com
END:VEVENT
BEGIN:VEVENT
DTSTART;TZID=America/Los_Angeles:20261118T180000
DTEND;TZID=America/Los_Angeles:20261118T210000
DTSTAMP:20260420T102016
CREATED:20260419T033047Z
LAST-MODIFIED:20260419T033047Z
UID:3892-1795024800-1795035600@jasnasac.org
SUMMARY:JA Movie Fan Club
DESCRIPTION:The Madness of King George
URL:https://jasnasac.org/event/ja-movie-fan-club-14/
LOCATION:Zoom Meeting\, CA\, United States
CATEGORIES:Movie Fan Club
ORGANIZER;CN="Joy Prevost":MAILTO:jasna.grsac@gmail.com
END:VEVENT
BEGIN:VEVENT
DTSTART;TZID=America/Los_Angeles:20261120T170000
DTEND;TZID=America/Los_Angeles:20261120T183000
DTSTAMP:20260420T102017
CREATED:20260419T034340Z
LAST-MODIFIED:20260419T034341Z
UID:3905-1795194000-1795199400@jasnasac.org
SUMMARY:JA Book-to-Fork Cooking Club
DESCRIPTION:Unwind with Wine \nHave a glass of wine in the style of what Jane Austen would have drank.
URL:https://jasnasac.org/event/ja-book-to-fork-cooking-club-9/
LOCATION:Zoom Meeting\, CA\, United States
CATEGORIES:Book-to-Fork Cooking Club
ORGANIZER;CN="Joy Prevost":MAILTO:jasna.grsac@gmail.com
END:VEVENT
BEGIN:VEVENT
DTSTART;TZID=America/Los_Angeles:20261203T180000
DTEND;TZID=America/Los_Angeles:20261203T210000
DTSTAMP:20260420T102017
CREATED:20260419T033143Z
LAST-MODIFIED:20260419T033143Z
UID:3894-1796320800-1796331600@jasnasac.org
SUMMARY:JA Movie Fan Club
DESCRIPTION:Frozen
URL:https://jasnasac.org/event/ja-movie-fan-club-15/
LOCATION:Zoom Meeting\, CA\, United States
CATEGORIES:Movie Fan Club
ORGANIZER;CN="Joy Prevost":MAILTO:jasna.grsac@gmail.com
END:VEVENT
BEGIN:VEVENT
DTSTART;TZID=America/Los_Angeles:20261212T150000
DTEND;TZID=America/Los_Angeles:20261212T170000
DTSTAMP:20260420T102017
CREATED:20260214T225717Z
LAST-MODIFIED:20260214T225717Z
UID:3815-1797087600-1797094800@jasnasac.org
SUMMARY:JASNA Reading Group- Jane and The Twelve Days of Christmas
DESCRIPTION:The JASNA Reading Group will meet on December 12th at 3pm on Zoom to discuss Jane and The Twelve Days of Christmas by Stephanie Barron .  A Zoom invitation and discussion questions will be sent out to registered members shortly before the event. Please contact reading group organizer\, Nancy Kleinert\, if you wish to attend.
URL:https://jasnasac.org/event/jasna-reading-group-jane-and-the-twelve-days-of-christmas/
LOCATION:Zoom Meeting\, CA\, United States
ORGANIZER;CN="Nancy Kleinert":MAILTO:jasna.grsac@gmail.com
END:VEVENT
BEGIN:VEVENT
DTSTART;TZID=America/Los_Angeles:20261216T180000
DTEND;TZID=America/Los_Angeles:20261216T183000
DTSTAMP:20260420T102017
CREATED:20260419T034522Z
LAST-MODIFIED:20260419T034522Z
UID:3908-1797444000-1797445800@jasnasac.org
SUMMARY:Birthday Toast
DESCRIPTION:Let’s toast to Jane Austen’s birthday!
URL:https://jasnasac.org/event/birthday-toast/
LOCATION:Zoom Meeting\, CA\, United States
CATEGORIES:Book-to-Fork Cooking Club
ORGANIZER;CN="Joy Prevost":MAILTO:jasna.grsac@gmail.com
END:VEVENT
END:VCALENDAR