BEGIN:VCALENDAR
VERSION:2.0
PRODID:-//JASNA Greater Sacramento Region - ECPv6.15.17.1//NONSGML v1.0//EN
CALSCALE:GREGORIAN
METHOD:PUBLISH
X-WR-CALNAME:JASNA Greater Sacramento Region
X-ORIGINAL-URL:https://jasnasac.org
X-WR-CALDESC:Events for JASNA Greater Sacramento Region
REFRESH-INTERVAL;VALUE=DURATION:PT1H
X-Robots-Tag:noindex
X-PUBLISHED-TTL:PT1H
BEGIN:VTIMEZONE
TZID:America/Los_Angeles
BEGIN:DAYLIGHT
TZOFFSETFROM:-0800
TZOFFSETTO:-0700
TZNAME:PDT
DTSTART:20250309T100000
END:DAYLIGHT
BEGIN:STANDARD
TZOFFSETFROM:-0700
TZOFFSETTO:-0800
TZNAME:PST
DTSTART:20251102T090000
END:STANDARD
BEGIN:DAYLIGHT
TZOFFSETFROM:-0800
TZOFFSETTO:-0700
TZNAME:PDT
DTSTART:20260308T100000
END:DAYLIGHT
BEGIN:STANDARD
TZOFFSETFROM:-0700
TZOFFSETTO:-0800
TZNAME:PST
DTSTART:20261101T090000
END:STANDARD
BEGIN:DAYLIGHT
TZOFFSETFROM:-0800
TZOFFSETTO:-0700
TZNAME:PDT
DTSTART:20270314T100000
END:DAYLIGHT
BEGIN:STANDARD
TZOFFSETFROM:-0700
TZOFFSETTO:-0800
TZNAME:PST
DTSTART:20271107T090000
END:STANDARD
END:VTIMEZONE
BEGIN:VEVENT
DTSTART;TZID=America/Los_Angeles:20260613T150000
DTEND;TZID=America/Los_Angeles:20260613T170000
DTSTAMP:20260422T031549
CREATED:20260214T223833Z
LAST-MODIFIED:20260214T223833Z
UID:3797-1781362800-1781370000@jasnasac.org
SUMMARY:JASNA Reading Group- Jane Austen & Lord Byron: Regency Relations
DESCRIPTION:The JASNA Reading Group will meet on June 13th  at 3pm on Zoom to discuss Jane Austen & Lord Byron: Regency Relations by Christine Kenyon Jones.  A Zoom invitation and discussion questions will be sent out to registered members shortly before the event. Please contact reading group organizer\, Nancy Kleinert\, if you wish to attend.
URL:https://jasnasac.org/event/jasna-reading-group-jane-austen-lord-byron-regency-relations/
LOCATION:Zoom Meeting\, CA\, United States
ORGANIZER;CN="Nancy Kleinert":MAILTO:jasna.grsac@gmail.com
END:VEVENT
BEGIN:VEVENT
DTSTART;TZID=America/Los_Angeles:20260617T180000
DTEND;TZID=America/Los_Angeles:20260617T210000
DTSTAMP:20260422T031549
CREATED:20260419T032018Z
LAST-MODIFIED:20260419T032019Z
UID:3874-1781719200-1781730000@jasnasac.org
SUMMARY:JA Movie Fan Club
DESCRIPTION:Byron
URL:https://jasnasac.org/event/ja-movie-fan-club-7/
LOCATION:Zoom Meeting\, CA\, United States
CATEGORIES:Movie Fan Club
ORGANIZER;CN="Joy Prevost":MAILTO:jasna.grsac@gmail.com
END:VEVENT
BEGIN:VEVENT
DTSTART;TZID=America/Los_Angeles:20260619T130000
DTEND;TZID=America/Los_Angeles:20260619T170000
DTSTAMP:20260422T031549
CREATED:20260419T033827Z
LAST-MODIFIED:20260419T033828Z
UID:3899-1781874000-1781888400@jasnasac.org
SUMMARY:Afternoon Tea with Jane Austen - Rise of a Genius
DESCRIPTION:Afternoon Tea to-go box from Estelle Patisserie \n(approx $30 ++) \nWatch Jane Austen – Rise of a Genius
URL:https://jasnasac.org/event/afternoon-tea-with-jane-austen-rise-of-a-genius/
LOCATION:Home of Joy Prevost\, CA\, United States
CATEGORIES:Book-to-Fork Cooking Club,Movie Fan Club
ORGANIZER;CN="Joy Prevost":MAILTO:jasna.grsac@gmail.com
END:VEVENT
BEGIN:VEVENT
DTSTART;TZID=America/Los_Angeles:20260628T140000
DTEND;TZID=America/Los_Angeles:20260628T160000
DTSTAMP:20260422T031549
CREATED:20260419T034147Z
LAST-MODIFIED:20260419T034147Z
UID:3902-1782655200-1782662400@jasnasac.org
SUMMARY:JA Book-to-Fork Cooking Club
DESCRIPTION:Inspired Ices \nMake or buy ice cream and share on screen. Make an ice cream recipe from the Georgian/Regency Period. Create an Austen-inspired flavor.
URL:https://jasnasac.org/event/ja-book-to-fork-cooking-club-8/
LOCATION:Zoom Meeting\, CA\, United States
CATEGORIES:Book-to-Fork Cooking Club
ORGANIZER;CN="Joy Prevost":MAILTO:jasna.grsac@gmail.com
END:VEVENT
END:VCALENDAR