BEGIN:VCALENDAR
VERSION:2.0
PRODID:-//JASNA Greater Sacramento Region - ECPv6.15.17.1//NONSGML v1.0//EN
CALSCALE:GREGORIAN
METHOD:PUBLISH
X-WR-CALNAME:JASNA Greater Sacramento Region
X-ORIGINAL-URL:https://jasnasac.org
X-WR-CALDESC:Events for JASNA Greater Sacramento Region
REFRESH-INTERVAL;VALUE=DURATION:PT1H
X-Robots-Tag:noindex
X-PUBLISHED-TTL:PT1H
BEGIN:VTIMEZONE
TZID:America/Los_Angeles
BEGIN:DAYLIGHT
TZOFFSETFROM:-0800
TZOFFSETTO:-0700
TZNAME:PDT
DTSTART:20250309T100000
END:DAYLIGHT
BEGIN:STANDARD
TZOFFSETFROM:-0700
TZOFFSETTO:-0800
TZNAME:PST
DTSTART:20251102T090000
END:STANDARD
BEGIN:DAYLIGHT
TZOFFSETFROM:-0800
TZOFFSETTO:-0700
TZNAME:PDT
DTSTART:20260308T100000
END:DAYLIGHT
BEGIN:STANDARD
TZOFFSETFROM:-0700
TZOFFSETTO:-0800
TZNAME:PST
DTSTART:20261101T090000
END:STANDARD
BEGIN:DAYLIGHT
TZOFFSETFROM:-0800
TZOFFSETTO:-0700
TZNAME:PDT
DTSTART:20270314T100000
END:DAYLIGHT
BEGIN:STANDARD
TZOFFSETFROM:-0700
TZOFFSETTO:-0800
TZNAME:PST
DTSTART:20271107T090000
END:STANDARD
END:VTIMEZONE
BEGIN:VEVENT
DTSTART;TZID=America/Los_Angeles:20260711T150000
DTEND;TZID=America/Los_Angeles:20260711T170000
DTSTAMP:20260420T062952
CREATED:20260214T224146Z
LAST-MODIFIED:20260419T034928Z
UID:3800-1783782000-1783789200@jasnasac.org
SUMMARY:Austentacious Study Group- The Novel Life of Jane Austen: A Graphic Biography
DESCRIPTION:The Austentacious Study Group will meet on July 11th  at 3pm on Zoom to discuss The Novel Life of Jane Austen: A Graphic Biography by Janine Barchas. A Zoom invitation and discussion questions will be sent out to registered members shortly before the event. Please contact Austentacious Study Group organizer\, Susan Byars\, if you wish to attend.
URL:https://jasnasac.org/event/austentacious-study-group-the-novel-life-of-jane-austen-a-graphic-biography/
LOCATION:Zoom Meeting\, CA\, United States
ORGANIZER;CN="Susan Byars":MAILTO:jasna.grsac@gmail.com
END:VEVENT
BEGIN:VEVENT
DTSTART;TZID=America/Los_Angeles:20260715T180000
DTEND;TZID=America/Los_Angeles:20260715T210000
DTSTAMP:20260420T062952
CREATED:20260419T032140Z
LAST-MODIFIED:20260419T032140Z
UID:3876-1784138400-1784149200@jasnasac.org
SUMMARY:JA Movie Fan Club
DESCRIPTION:The Many Lovers of Jane Austen
URL:https://jasnasac.org/event/ja-movie-fan-club-8/
LOCATION:Zoom Meeting\, CA\, United States
CATEGORIES:Movie Fan Club
ORGANIZER;CN="Joy Prevost":MAILTO:jasna.grsac@gmail.com
END:VEVENT
BEGIN:VEVENT
DTSTART;TZID=America/Los_Angeles:20260719T130000
DTEND;TZID=America/Los_Angeles:20260719T170000
DTSTAMP:20260420T062952
CREATED:20260419T032343Z
LAST-MODIFIED:20260419T032343Z
UID:3878-1784466000-1784480400@jasnasac.org
SUMMARY:JA Movie Fan Club
DESCRIPTION:Crouching Tiger\, Hidden Dragon \nIn-Person Event \n1:00 pm
URL:https://jasnasac.org/event/ja-movie-fan-club-9/
LOCATION:Home of Joy Prevost\, CA\, United States
CATEGORIES:Movie Fan Club
ORGANIZER;CN="Joy Prevost":MAILTO:jasna.grsac@gmail.com
END:VEVENT
END:VCALENDAR