BEGIN:VCALENDAR
VERSION:2.0
PRODID:-//JASNA Greater Sacramento Region - ECPv6.15.17.1//NONSGML v1.0//EN
CALSCALE:GREGORIAN
METHOD:PUBLISH
X-ORIGINAL-URL:https://jasnasac.org
X-WR-CALDESC:Events for JASNA Greater Sacramento Region
REFRESH-INTERVAL;VALUE=DURATION:PT1H
X-Robots-Tag:noindex
X-PUBLISHED-TTL:PT1H
BEGIN:VTIMEZONE
TZID:America/Los_Angeles
BEGIN:DAYLIGHT
TZOFFSETFROM:-0800
TZOFFSETTO:-0700
TZNAME:PDT
DTSTART:20250309T100000
END:DAYLIGHT
BEGIN:STANDARD
TZOFFSETFROM:-0700
TZOFFSETTO:-0800
TZNAME:PST
DTSTART:20251102T090000
END:STANDARD
BEGIN:DAYLIGHT
TZOFFSETFROM:-0800
TZOFFSETTO:-0700
TZNAME:PDT
DTSTART:20260308T100000
END:DAYLIGHT
BEGIN:STANDARD
TZOFFSETFROM:-0700
TZOFFSETTO:-0800
TZNAME:PST
DTSTART:20261101T090000
END:STANDARD
BEGIN:DAYLIGHT
TZOFFSETFROM:-0800
TZOFFSETTO:-0700
TZNAME:PDT
DTSTART:20270314T100000
END:DAYLIGHT
BEGIN:STANDARD
TZOFFSETFROM:-0700
TZOFFSETTO:-0800
TZNAME:PST
DTSTART:20271107T090000
END:STANDARD
END:VTIMEZONE
BEGIN:VEVENT
DTSTART;TZID=America/Los_Angeles:20260912T150000
DTEND;TZID=America/Los_Angeles:20260912T170000
DTSTAMP:20260420T085848
CREATED:20260214T224809Z
LAST-MODIFIED:20260214T224809Z
UID:3806-1789225200-1789232400@jasnasac.org
SUMMARY:Austentacious Study Group- The Real Persuasion
DESCRIPTION:The Austentacious Study Group will meet on September 12th at 3pm on Zoom to discuss The Real Persuasion: Portrait of a Real Life Jane Austen Heroine by Peter James Bowman . A Zoom invitation and discussion questions will be sent out to registered members shortly before the event. Please contact Austentacious Study Group organizer\, Susan Byars\, if you wish to attend.
URL:https://jasnasac.org/event/austentacious-study-group-the-real-persuasion/
LOCATION:Zoom Meeting\, CA\, United States
ORGANIZER;CN="Susan Byars":MAILTO:jasna.grsac@gmail.com
END:VEVENT
BEGIN:VEVENT
DTSTART;TZID=America/Los_Angeles:20260916T180000
DTEND;TZID=America/Los_Angeles:20260916T210000
DTSTAMP:20260420T085848
CREATED:20260419T032609Z
LAST-MODIFIED:20260419T035004Z
UID:3885-1789581600-1789592400@jasnasac.org
SUMMARY:JA Movie Fan Club
DESCRIPTION:Persuasion (2008)
URL:https://jasnasac.org/event/ja-movie-fan-club-11/
LOCATION:Zoom Meeting\, CA\, United States
CATEGORIES:Movie Fan Club
ORGANIZER;CN="Joy Prevost":MAILTO:jasna.grsac@gmail.com
END:VEVENT
END:VCALENDAR