BEGIN:VCALENDAR
VERSION:2.0
PRODID:-//JASNA Greater Sacramento Region - ECPv6.15.17.1//NONSGML v1.0//EN
CALSCALE:GREGORIAN
METHOD:PUBLISH
X-ORIGINAL-URL:https://jasnasac.org
X-WR-CALDESC:Events for JASNA Greater Sacramento Region
REFRESH-INTERVAL;VALUE=DURATION:PT1H
X-Robots-Tag:noindex
X-PUBLISHED-TTL:PT1H
BEGIN:VTIMEZONE
TZID:America/Los_Angeles
BEGIN:DAYLIGHT
TZOFFSETFROM:-0800
TZOFFSETTO:-0700
TZNAME:PDT
DTSTART:20250309T100000
END:DAYLIGHT
BEGIN:STANDARD
TZOFFSETFROM:-0700
TZOFFSETTO:-0800
TZNAME:PST
DTSTART:20251102T090000
END:STANDARD
BEGIN:DAYLIGHT
TZOFFSETFROM:-0800
TZOFFSETTO:-0700
TZNAME:PDT
DTSTART:20260308T100000
END:DAYLIGHT
BEGIN:STANDARD
TZOFFSETFROM:-0700
TZOFFSETTO:-0800
TZNAME:PST
DTSTART:20261101T090000
END:STANDARD
BEGIN:DAYLIGHT
TZOFFSETFROM:-0800
TZOFFSETTO:-0700
TZNAME:PDT
DTSTART:20270314T100000
END:DAYLIGHT
BEGIN:STANDARD
TZOFFSETFROM:-0700
TZOFFSETTO:-0800
TZNAME:PST
DTSTART:20271107T090000
END:STANDARD
END:VTIMEZONE
BEGIN:VEVENT
DTSTART;TZID=America/Los_Angeles:20261010T150000
DTEND;TZID=America/Los_Angeles:20261010T170000
DTSTAMP:20260424T023501
CREATED:20260214T225106Z
LAST-MODIFIED:20260214T225106Z
UID:3809-1791644400-1791651600@jasnasac.org
SUMMARY:JASNA Reading Group- Bitches in Bonnets
DESCRIPTION:The JASNA Reading Group will meet on October 10th at 3pm on Zoom to discuss Bitches in Bonnets: Life Lessons from Jane Austen’s Mean Girls by Sarah J. Makowski.  A Zoom invitation and discussion questions will be sent out to registered members shortly before the event. Please contact reading group organizer\, Nancy Kleinert\, if you wish to attend.
URL:https://jasnasac.org/event/jasna-reading-group-bitches-in-bonnets/
LOCATION:Zoom Meeting\, CA\, United States
ORGANIZER;CN="Nancy Kleinert":MAILTO:jasna.grsac@gmail.com
END:VEVENT
BEGIN:VEVENT
DTSTART;TZID=America/Los_Angeles:20261017T130000
DTEND;TZID=America/Los_Angeles:20261017T170000
DTSTAMP:20260424T023501
CREATED:20260419T032806Z
LAST-MODIFIED:20260419T032806Z
UID:3888-1792242000-1792256400@jasnasac.org
SUMMARY:JA Movie Fan Club
DESCRIPTION:Miss Austen \n1:00 pm \nIn-Person
URL:https://jasnasac.org/event/ja-movie-fan-club-12/
LOCATION:Home of Joy Prevost\, CA\, United States
CATEGORIES:Movie Fan Club
ORGANIZER;CN="Joy Prevost":MAILTO:jasna.grsac@gmail.com
END:VEVENT
BEGIN:VEVENT
DTSTART;TZID=America/Los_Angeles:20261022T180000
DTEND;TZID=America/Los_Angeles:20261022T210000
DTSTAMP:20260424T023501
CREATED:20260419T032925Z
LAST-MODIFIED:20260419T032925Z
UID:3890-1792692000-1792702800@jasnasac.org
SUMMARY:JA Movie Fan Club
DESCRIPTION:Austentatious Improv \n 
URL:https://jasnasac.org/event/ja-movie-fan-club-13/
LOCATION:Zoom Meeting\, CA\, United States
CATEGORIES:Movie Fan Club
ORGANIZER;CN="Joy Prevost":MAILTO:jasna.grsac@gmail.com
END:VEVENT
END:VCALENDAR